BEGIN:VCALENDAR
VERSION:2.0
PRODID:-//jEvents 2.0 for Joomla//EN
CALSCALE:GREGORIAN
METHOD:PUBLISH
BEGIN:VEVENT
UID:d135b3bfa3dd934eb800d88295c56d96
CATEGORIES:Toernooi
CREATED:20190320T191818
SUMMARY:Eindtoernooi woensdagavondcompetitie 2018-2019
DESCRIPTION:De woensdag wintercompetitie nadert zijn einde. De laatste wedstrijden zijn
  bijna gespeeld en de eindstand kan daarna worden opgemaakt. Zaterdag 30 ma
 art willen we nog een gezellig eindtoernooi organiseren vanaf 15.45 uur gev
 olgd door de prijsuitreiking. De organiserende wedstrijdcommissie draagt hi
 er zorg. Komt allen!!! Opgeven tot maximaal 27 maart, zodat we op tijd een 
 schema kunnen maken.\nPaul Muskens\n06-21513767\nen Wilfred Meulman\n06-543
 52051\nof via trainer@tvakkrum.nl\n
X-ALT-DESC;FMTTYPE=text/html:<p>De woensdag wintercompetitie nadert zijn einde. De laatste wedstrijden z
 ijn bijna gespeeld en de eindstand kan daarna worden opgemaakt. Zaterdag 30
  maart willen we nog een gezellig eindtoernooi organiseren vanaf 15.45 uur 
 gevolgd door de prijsuitreiking. De organiserende wedstrijdcommissie draagt
  hier zorg. Komt allen!!! Opgeven tot maximaal 27 maart, zodat we op tijd e
 en schema kunnen maken.</p><p>Paul Muskens<br />06-21513767<br />en Wilfred
  Meulman<br />06-54352051</p><p>of via trainer@tvakkrum.nl</p>
DTSTAMP:20260421T173917
DTSTART:20190330T144500
DTEND:20190330T170000
SEQUENCE:0
TRANSP:OPAQUE
END:VEVENT
END:VCALENDAR