BEGIN:VCALENDAR
VERSION:2.0
PRODID:-//jEvents 2.0 for Joomla//EN
CALSCALE:GREGORIAN
METHOD:PUBLISH
BEGIN:VEVENT
UID:b28ed34be969e724fac1ce2118eb4d56
CATEGORIES:Toernooi
CREATED:20210815T161603
SUMMARY:Start Wintercompetitie donderdag
DESCRIPTION:
DTSTAMP:20260421T173918
DTSTART:20211104T120000
DTEND:20211104T160000
SEQUENCE:0
TRANSP:OPAQUE
END:VEVENT
END:VCALENDAR