BEGIN:VCALENDAR
VERSION:2.0
PRODID:-//jEvents 2.0 for Joomla//EN
CALSCALE:GREGORIAN
METHOD:PUBLISH
BEGIN:VEVENT
UID:4b285bf4230aaa364784d711d9b2b606
CATEGORIES:DEFAULT
CREATED:20211121T132138
SUMMARY:Slotdag Wintercompetitie zondagochtend
DESCRIPTION:Deelnemers aan de Wintercompetitie 2021-2022 hebben op zondag 27 maart 2022
  hun slotdag. Organisator Anne Sijbesma deelt op die dag de prijzen uit aan
  de winnaars. Traditie is dat alle deelnemers een leuke attentie krijgen.\n
X-ALT-DESC;FMTTYPE=text/html:<p>Deelnemers aan de Wintercompetitie 2021-2022 hebben op zondag 27 maart 2
 022 hun slotdag. Organisator Anne Sijbesma deelt op die dag de prijzen uit 
 aan de winnaars. Traditie is dat alle deelnemers een leuke attentie krijgen
 .</p>
DTSTAMP:20260421T173918
DTSTART:20220327T100000
DTEND:20220327T110000
SEQUENCE:0
TRANSP:OPAQUE
END:VEVENT
END:VCALENDAR