BEGIN:VCALENDAR
VERSION:2.0
PRODID:-//jEvents 2.0 for Joomla//EN
CALSCALE:GREGORIAN
METHOD:PUBLISH
BEGIN:VEVENT
UID:7c5a3b4caaee909185cb27dee661447e
CATEGORIES:Toernooi
CREATED:20150707T233904
SUMMARY:Boarnsterhimtoernooi 2015
DESCRIPTION:Her Boarnsterhimtoernooi 2015 wordt van 22 tot en met 27 september a. s. ge
 houden. Opgave kan via de verenigingscompetitieleider Herman Stokman, vcl@t
 vakkrum.nl (mailto:vcl@tvakkrum.nl). Het toernooi staat open voor alle inwo
 ners van de voormalige gemeente Boarnsterhim en de dorpen Wirdum en Goutum.
 \n
X-ALT-DESC;FMTTYPE=text/html:<p>Her Boarnsterhimtoernooi 2015 wordt van 22 tot en met 27 september a. s.
  gehouden. Opgave kan via de verenigingscompetitieleider Herman Stokman, <a
  href="mailto:vcl@tvakkrum.nl">vcl@tvakkrum.nl</a>. Het toernooi staat open
  voor alle inwoners van de voormalige gemeente Boarnsterhim en de dorpen Wi
 rdum en Goutum.</p>
DTSTAMP:20260421T162055
DTSTART:20150922T160000
DTEND;VALUE=DATE:20150928
SEQUENCE:0
TRANSP:OPAQUE
END:VEVENT
END:VCALENDAR