BEGIN:VCALENDAR
VERSION:2.0
PRODID:-//jEvents 2.0 for Joomla//EN
CALSCALE:GREGORIAN
METHOD:PUBLISH
BEGIN:VEVENT
UID:2374a697ab6c54c82e66cb869db13846
CATEGORIES:Toernooi
CREATED:20140917T224959
SUMMARY:Boarnsterhim 2014
DESCRIPTION:Het Boarnsterhimtoernooi 2014 wordt van dinsdag 23 tot en met zondag 28 sep
 tember gespeeld. Op zaterdagochtend 27 september zijn de wedstrijden op de 
 banen in Akkrum. Vanaf 10.15 tot een uur of twee wordt er gespeeld. Zie op 
 deze link (http://www.toernooi.nl/sport/matches.aspx?id=9EA1B899-D01D-4AB9-
 8B99-CB51F3501D0E&amp;d=20140927) voor het wedstrijdschema in Akkrum\nLees 
 verder: Banen Akkrum beperkt beschikbaar tijdens Boarnsterhimtoernooi 2014\
 n
X-ALT-DESC;FMTTYPE=text/html:<p>Het Boarnsterhimtoernooi 2014 wordt van dinsdag 23 tot en met zondag 28 
 september gespeeld. Op zaterdagochtend 27 september zijn de wedstrijden op 
 de banen in Akkrum. Vanaf 10.15 tot een uur of twee wordt er gespeeld. Zie 
 op <a href="http://www.toernooi.nl/sport/matches.aspx?id=9EA1B899-D01D-4AB9
 -8B99-CB51F3501D0E&d=20140927">deze link</a> voor het wedstrijdschema in Ak
 krum</p><p><a style="color: #02492b; text-decoration: none; font-family: 'H
 elvetica Neue', Helvetica, Arial, sans-serif; font-size: 14px; line-height:
  20px;" href="http://570836755.swh.strato-hosting.eu/archief/index.php/nieu
 ws-sp-1731568699/nieuwsoverzicht-breakpoint/462-banen-akkrum-beperkt-beschi
 kbaar-tijdens-boarnsterhimtoernooi-2014">Lees verder: Banen Akkrum beperkt 
 beschikbaar tijdens Boarnsterhimtoernooi 2014</a></p>
DTSTAMP:20260421T160541
DTSTART:20140927T060000
DTEND:20140927T150000
SEQUENCE:0
TRANSP:OPAQUE
END:VEVENT
END:VCALENDAR